BEGIN:VCALENDAR
VERSION:2.0
PRODID:-// eRoom plugin //NONSGML v1.0//EN
CALSCALE:GREGORIAN
BEGIN:VEVENT
UID:eRoom-1776771528
SUMMARY:Entretien d&rsquo;évaluation initiale
LOCATION:
DESCRIPTION
URL;VALUE=URI:https://wordpress.org/plugins/eroom-zoom-meetings-webinar/
DTSTART:20220517T113900Z
DTEND:20220517T120900Z
DTSTAMP:20260421T113848Z
BEGIN:VALARM
ACTION:DISPLAY
RIGGER;RELATED=START:-PT00H15M00S
BEGIN:VALARM
END:VEVENT
END:VCALENDAR